BEGIN:VCALENDAR
VERSION:2.0
PRODID:-//Metropolis Tourism - ECPv6.15.20//NONSGML v1.0//EN
CALSCALE:GREGORIAN
METHOD:PUBLISH
X-WR-CALNAME:Metropolis Tourism
X-ORIGINAL-URL:https://seemetropolis.com
X-WR-CALDESC:Events for Metropolis Tourism
REFRESH-INTERVAL;VALUE=DURATION:PT1H
X-Robots-Tag:noindex
X-PUBLISHED-TTL:PT1H
BEGIN:VTIMEZONE
TZID:America/Chicago
BEGIN:DAYLIGHT
TZOFFSETFROM:-0600
TZOFFSETTO:-0500
TZNAME:CDT
DTSTART:20240310T080000
END:DAYLIGHT
BEGIN:STANDARD
TZOFFSETFROM:-0500
TZOFFSETTO:-0600
TZNAME:CST
DTSTART:20241103T070000
END:STANDARD
BEGIN:DAYLIGHT
TZOFFSETFROM:-0600
TZOFFSETTO:-0500
TZNAME:CDT
DTSTART:20250309T080000
END:DAYLIGHT
BEGIN:STANDARD
TZOFFSETFROM:-0500
TZOFFSETTO:-0600
TZNAME:CST
DTSTART:20251102T070000
END:STANDARD
BEGIN:DAYLIGHT
TZOFFSETFROM:-0600
TZOFFSETTO:-0500
TZNAME:CDT
DTSTART:20260308T080000
END:DAYLIGHT
BEGIN:STANDARD
TZOFFSETFROM:-0500
TZOFFSETTO:-0600
TZNAME:CST
DTSTART:20261101T070000
END:STANDARD
END:VTIMEZONE
BEGIN:VEVENT
DTSTART;TZID=America/Chicago:20250913T160000
DTEND;TZID=America/Chicago:20250913T200000
DTSTAMP:20260424T035548
CREATED:20250903T181318Z
LAST-MODIFIED:20250903T181318Z
UID:10000023-1757779200-1757793600@seemetropolis.com
SUMMARY:2nd Annual Fast and Furriest Car Show
DESCRIPTION:Rev Up for a Super Cause! Join us on Friday\, September 13th from 4:00 to 8:00 p.m. for an All Makes & Models Car Cruise on Superman Square and Market Street — a fun-filled evening benefiting Project Hope Humane Society!\n\n Cool cars\, great vibes\, and paws-itively awesome fun!\nCruise through a showcase of classic rides\, custom builds\, and unique wheels — all for a great cause.\n\n Want to be a vendor?Vendor spaces are available!For questions or to reserve your spot\, contact Sandra at 618-751-2017.\nBring your ride\, your crew\, and your love for animals — it’s going to be a wheely good time!
URL:https://seemetropolis.com/event/2nd-annual-fast-and-furriest-car-show/
LOCATION:Superman Square\, 1 Superman Square\, Metropolis\, IL\, 62960\, United States
CATEGORIES:Car Show,Family Friendly
ATTACH;FMTTYPE=image/png:https://seemetropolis.com/wp-content/uploads/2025/09/Metropolis-Car-Show-with-Superman-Statue.png
ORGANIZER;CN="Project Hope Humane Society":MAILTO:projecthopehs@gmail.com
END:VEVENT
END:VCALENDAR